BEGIN:VCALENDAR
VERSION:2.0
PRODID:-//Mittelschule Walther von der Vogelweide - NMS Aschbach - ECPv6.0.5//NONSGML v1.0//EN
CALSCALE:GREGORIAN
METHOD:PUBLISH
X-ORIGINAL-URL:https://www.mittelschule-aschbach.at
X-WR-CALDESC:Events for Mittelschule Walther von der Vogelweide - NMS Aschbach
REFRESH-INTERVAL;VALUE=DURATION:PT1H
X-Robots-Tag:noindex
X-PUBLISHED-TTL:PT1H
BEGIN:VTIMEZONE
TZID:Europe/Berlin
BEGIN:DAYLIGHT
TZOFFSETFROM:+0100
TZOFFSETTO:+0200
TZNAME:CEST
DTSTART:20260329T010000
END:DAYLIGHT
BEGIN:STANDARD
TZOFFSETFROM:+0200
TZOFFSETTO:+0100
TZNAME:CET
DTSTART:20261025T010000
END:STANDARD
END:VTIMEZONE
BEGIN:VEVENT
DTSTART;VALUE=DATE:20260605
DTEND;VALUE=DATE:20260606
DTSTAMP:20260421T140242
CREATED:20250916T105117Z
LAST-MODIFIED:20250916T105117Z
UID:10000142-1780617600-1780703999@www.mittelschule-aschbach.at
SUMMARY:schulautonom frei
DESCRIPTION:
URL:https://www.mittelschule-aschbach.at/termin/schulautonom-frei-7/
LOCATION:NMS Aschbach
CATEGORIES:Allgemein
END:VEVENT
END:VCALENDAR