BEGIN:VCALENDAR
VERSION:2.0
PRODID:-//Mittelschule Walther von der Vogelweide - NMS Aschbach - ECPv6.0.5//NONSGML v1.0//EN
CALSCALE:GREGORIAN
METHOD:PUBLISH
X-ORIGINAL-URL:https://www.mittelschule-aschbach.at
X-WR-CALDESC:Events for Mittelschule Walther von der Vogelweide - NMS Aschbach
REFRESH-INTERVAL;VALUE=DURATION:PT1H
X-Robots-Tag:noindex
X-PUBLISHED-TTL:PT1H
BEGIN:VTIMEZONE
TZID:Europe/Berlin
BEGIN:DAYLIGHT
TZOFFSETFROM:+0100
TZOFFSETTO:+0200
TZNAME:CEST
DTSTART:20210328T010000
END:DAYLIGHT
BEGIN:STANDARD
TZOFFSETFROM:+0200
TZOFFSETTO:+0100
TZNAME:CET
DTSTART:20211031T010000
END:STANDARD
BEGIN:DAYLIGHT
TZOFFSETFROM:+0100
TZOFFSETTO:+0200
TZNAME:CEST
DTSTART:20220327T010000
END:DAYLIGHT
BEGIN:STANDARD
TZOFFSETFROM:+0200
TZOFFSETTO:+0100
TZNAME:CET
DTSTART:20221030T010000
END:STANDARD
BEGIN:DAYLIGHT
TZOFFSETFROM:+0100
TZOFFSETTO:+0200
TZNAME:CEST
DTSTART:20230326T010000
END:DAYLIGHT
BEGIN:STANDARD
TZOFFSETFROM:+0200
TZOFFSETTO:+0100
TZNAME:CET
DTSTART:20231029T010000
END:STANDARD
END:VTIMEZONE
BEGIN:VEVENT
DTSTART;VALUE=DATE:20211224
DTEND;VALUE=DATE:20211225
DTSTAMP:20260421T153423
CREATED:20211213T085423Z
LAST-MODIFIED:20220110T100132Z
UID:10000045-1640304000-1640390399@www.mittelschule-aschbach.at
SUMMARY:Weihnachten
DESCRIPTION:
URL:https://www.mittelschule-aschbach.at/termin/weihnachten/
LOCATION:NMS Aschbach
CATEGORIES:Veranstaltungen
END:VEVENT
BEGIN:VEVENT
DTSTART;VALUE=DATE:20211231
DTEND;VALUE=DATE:20220101
DTSTAMP:20260421T153423
CREATED:20211213T085507Z
LAST-MODIFIED:20220110T100132Z
UID:10000046-1640908800-1640995199@www.mittelschule-aschbach.at
SUMMARY:Silvester
DESCRIPTION:
URL:https://www.mittelschule-aschbach.at/termin/silvester/
LOCATION:NMS Aschbach
CATEGORIES:Veranstaltungen
END:VEVENT
BEGIN:VEVENT
DTSTART;TZID=Europe/Berlin:20220225T080000
DTEND;TZID=Europe/Berlin:20220225T110000
DTSTAMP:20260421T153423
CREATED:20220218T102243Z
LAST-MODIFIED:20220218T102506Z
UID:10000054-1645776000-1645786800@www.mittelschule-aschbach.at
SUMMARY:ECDL-Prüfung
DESCRIPTION:
URL:https://www.mittelschule-aschbach.at/termin/ecdl-pruefung/
LOCATION:NMS Aschbach
CATEGORIES:Veranstaltungen
END:VEVENT
BEGIN:VEVENT
DTSTART;TZID=Europe/Berlin:20220301T074000
DTEND;TZID=Europe/Berlin:20220301T113000
DTSTAMP:20260421T153423
CREATED:20220218T102442Z
LAST-MODIFIED:20220218T102442Z
UID:10000055-1646120400-1646134200@www.mittelschule-aschbach.at
SUMMARY:Faschingdienstag
DESCRIPTION:
URL:https://www.mittelschule-aschbach.at/termin/faschingdienstag/
LOCATION:NMS Aschbach
CATEGORIES:Veranstaltungen
END:VEVENT
BEGIN:VEVENT
DTSTART;TZID=Europe/Berlin:20220311T180000
DTEND;TZID=Europe/Berlin:20220311T210000
DTSTAMP:20260421T153423
CREATED:20220218T101938Z
LAST-MODIFIED:20220315T094355Z
UID:10000053-1647021600-1647032400@www.mittelschule-aschbach.at
SUMMARY:Krimi-Abend 1. Klassen
DESCRIPTION:
URL:https://www.mittelschule-aschbach.at/termin/krimi-abend-1-klassen/
LOCATION:NMS Aschbach
CATEGORIES:Veranstaltungen
END:VEVENT
BEGIN:VEVENT
DTSTART;TZID=Europe/Berlin:20220318T074000
DTEND;TZID=Europe/Berlin:20220318T132000
DTSTAMP:20260421T153423
CREATED:20220221T115312Z
LAST-MODIFIED:20220221T115338Z
UID:10000061-1647589200-1647609600@www.mittelschule-aschbach.at
SUMMARY:"Liebe usw."-Workshop (4. Klassen)
DESCRIPTION:1.- 3. Stunde: 4b\n4.- 6. Stunde: 4a
URL:https://www.mittelschule-aschbach.at/termin/liebe-usw-workshop-4-klassen/
LOCATION:NMS Aschbach
CATEGORIES:Veranstaltungen
END:VEVENT
BEGIN:VEVENT
DTSTART;TZID=Europe/Berlin:20220322T074000
DTEND;TZID=Europe/Berlin:20220322T092500
DTSTAMP:20260421T153423
CREATED:20220221T121922Z
LAST-MODIFIED:20220311T094027Z
UID:10000063-1647934800-1647941100@www.mittelschule-aschbach.at
SUMMARY:Safer Internet - Workshop 1A
DESCRIPTION:
URL:https://www.mittelschule-aschbach.at/termin/safer-internet-workshop-1a/
LOCATION:NMS Aschbach
CATEGORIES:Veranstaltungen
END:VEVENT
BEGIN:VEVENT
DTSTART;TZID=Europe/Berlin:20220328T074000
DTEND;TZID=Europe/Berlin:20220328T092500
DTSTAMP:20260421T153423
CREATED:20220221T122137Z
LAST-MODIFIED:20220221T122137Z
UID:10000064-1648453200-1648459500@www.mittelschule-aschbach.at
SUMMARY:Safer Internet-Workshop 3A
DESCRIPTION:
URL:https://www.mittelschule-aschbach.at/termin/safer-internet-workshop-3a/
LOCATION:NMS Aschbach
CATEGORIES:Veranstaltungen
END:VEVENT
BEGIN:VEVENT
DTSTART;TZID=Europe/Berlin:20220328T093000
DTEND;TZID=Europe/Berlin:20220328T113000
DTSTAMP:20260421T153423
CREATED:20220221T122233Z
LAST-MODIFIED:20220311T094248Z
UID:10000065-1648459800-1648467000@www.mittelschule-aschbach.at
SUMMARY:Safer Internet-Workshop 1B
DESCRIPTION:
URL:https://www.mittelschule-aschbach.at/termin/safer-internet-workshop-1b/
LOCATION:NMS Aschbach
CATEGORIES:Veranstaltungen
END:VEVENT
BEGIN:VEVENT
DTSTART;TZID=Europe/Berlin:20220328T113000
DTEND;TZID=Europe/Berlin:20220328T132000
DTSTAMP:20260421T153423
CREATED:20220221T122357Z
LAST-MODIFIED:20220221T122357Z
UID:10000066-1648467000-1648473600@www.mittelschule-aschbach.at
SUMMARY:Safer Internet-Workshop 3B
DESCRIPTION:
URL:https://www.mittelschule-aschbach.at/termin/safer-internet-workshop-3b/
LOCATION:NMS Aschbach
CATEGORIES:Veranstaltungen
END:VEVENT
BEGIN:VEVENT
DTSTART;VALUE=DATE:20220401
DTEND;VALUE=DATE:20220402
DTSTAMP:20260421T153423
CREATED:20220311T094458Z
LAST-MODIFIED:20220311T094458Z
UID:10000069-1648771200-1648857599@www.mittelschule-aschbach.at
SUMMARY:MINT- Aufnahmeverfahren für die Volksschüler
DESCRIPTION:
URL:https://www.mittelschule-aschbach.at/termin/mint-aufnahmeverfahren-fuer-die-volksschueler/
LOCATION:NMS Aschbach
CATEGORIES:Veranstaltungen
END:VEVENT
BEGIN:VEVENT
DTSTART;VALUE=DATE:20220409
DTEND;VALUE=DATE:20220419
DTSTAMP:20260421T153423
CREATED:20220309T122839Z
LAST-MODIFIED:20220309T122839Z
UID:10000068-1649462400-1650326399@www.mittelschule-aschbach.at
SUMMARY:Osterferien
DESCRIPTION:
URL:https://www.mittelschule-aschbach.at/termin/osterferien/
LOCATION:NMS Aschbach
CATEGORIES:Veranstaltungen
END:VEVENT
BEGIN:VEVENT
DTSTART;TZID=Europe/Berlin:20220420T160000
DTEND;TZID=Europe/Berlin:20220420T190000
DTSTAMP:20260421T153423
CREATED:20220311T094703Z
LAST-MODIFIED:20220422T084933Z
UID:10000070-1650470400-1650481200@www.mittelschule-aschbach.at
SUMMARY:Elterngespräche 1. und 2. Klassen
DESCRIPTION:
URL:https://www.mittelschule-aschbach.at/termin/elterngespraeche-1-und-2-klassen/
LOCATION:NMS Aschbach
CATEGORIES:Veranstaltungen
END:VEVENT
BEGIN:VEVENT
DTSTART;VALUE=DATE:20220428
DTEND;VALUE=DATE:20220429
DTSTAMP:20260421T153423
CREATED:20220422T084757Z
LAST-MODIFIED:20220422T084757Z
UID:10000072-1651104000-1651190399@www.mittelschule-aschbach.at
SUMMARY:Girlsday
DESCRIPTION:
URL:https://www.mittelschule-aschbach.at/termin/girlsday/
LOCATION:NMS Aschbach
END:VEVENT
BEGIN:VEVENT
DTSTART;TZID=Europe/Berlin:20220428T160000
DTEND;TZID=Europe/Berlin:20220428T190000
DTSTAMP:20260421T153423
CREATED:20220311T094818Z
LAST-MODIFIED:20220422T084852Z
UID:10000071-1651161600-1651172400@www.mittelschule-aschbach.at
SUMMARY:Elterngespräche 3. und 4. Klassen
DESCRIPTION:
URL:https://www.mittelschule-aschbach.at/termin/elterngespraeche-3-und-4-klassen/
LOCATION:NMS Aschbach
CATEGORIES:Veranstaltungen
END:VEVENT
BEGIN:VEVENT
DTSTART;VALUE=DATE:20220509
DTEND;VALUE=DATE:20220510
DTSTAMP:20260421T153423
CREATED:20220422T085101Z
LAST-MODIFIED:20220422T085101Z
UID:10000073-1652054400-1652140799@www.mittelschule-aschbach.at
SUMMARY:KET: mündliche Prüfung (7 SchülerInnen der 4. Klassen)
DESCRIPTION:
URL:https://www.mittelschule-aschbach.at/termin/ket-muendliche-pruefung-7-schuelerinnen-der-4-klassen/
LOCATION:NMS Aschbach
END:VEVENT
BEGIN:VEVENT
DTSTART;VALUE=DATE:20220512
DTEND;VALUE=DATE:20220513
DTSTAMP:20260421T153423
CREATED:20220422T085140Z
LAST-MODIFIED:20220422T085140Z
UID:10000074-1652313600-1652399999@www.mittelschule-aschbach.at
SUMMARY:KET: schriftliche Prüfung (7 SchülerInnen der 4. Klassen)
DESCRIPTION:
URL:https://www.mittelschule-aschbach.at/termin/ket-schriftliche-pruefung-7-schuelerinnen-der-4-klassen/
LOCATION:NMS Aschbach
END:VEVENT
BEGIN:VEVENT
DTSTART;VALUE=DATE:20220526
DTEND;VALUE=DATE:20220527
DTSTAMP:20260421T153423
CREATED:20220422T085532Z
LAST-MODIFIED:20220422T085532Z
UID:10000076-1653523200-1653609599@www.mittelschule-aschbach.at
SUMMARY:Christi Himmelfahrt
DESCRIPTION:
URL:https://www.mittelschule-aschbach.at/termin/christi-himmelfahrt/
LOCATION:NMS Aschbach
END:VEVENT
BEGIN:VEVENT
DTSTART;VALUE=DATE:20220527
DTEND;VALUE=DATE:20220528
DTSTAMP:20260421T153423
CREATED:20220422T085556Z
LAST-MODIFIED:20220422T085556Z
UID:10000077-1653609600-1653695999@www.mittelschule-aschbach.at
SUMMARY:schulautonom frei
DESCRIPTION:
URL:https://www.mittelschule-aschbach.at/termin/schulautonom-frei/
LOCATION:NMS Aschbach
END:VEVENT
BEGIN:VEVENT
DTSTART;VALUE=DATE:20220603
DTEND;VALUE=DATE:20220604
DTSTAMP:20260421T153423
CREATED:20220603T084233Z
LAST-MODIFIED:20220603T084233Z
UID:10000088-1654214400-1654300799@www.mittelschule-aschbach.at
SUMMARY:Kripo-Vortrag (4.Klassen)
DESCRIPTION:
URL:https://www.mittelschule-aschbach.at/termin/kripo-vortrag-4-klassen/
LOCATION:NMS Aschbach
END:VEVENT
BEGIN:VEVENT
DTSTART;VALUE=DATE:20220606
DTEND;VALUE=DATE:20220607
DTSTAMP:20260421T153423
CREATED:20220422T090041Z
LAST-MODIFIED:20220422T090041Z
UID:10000079-1654473600-1654559999@www.mittelschule-aschbach.at
SUMMARY:Pfingsten
DESCRIPTION:
URL:https://www.mittelschule-aschbach.at/termin/pfingsten/
LOCATION:NMS Aschbach
END:VEVENT
BEGIN:VEVENT
DTSTART;VALUE=DATE:20220607
DTEND;VALUE=DATE:20220608
DTSTAMP:20260421T153423
CREATED:20220422T090116Z
LAST-MODIFIED:20220422T090116Z
UID:10000080-1654560000-1654646399@www.mittelschule-aschbach.at
SUMMARY:schulautonom frei
DESCRIPTION:
URL:https://www.mittelschule-aschbach.at/termin/schulautonom-frei-2/
LOCATION:NMS Aschbach
END:VEVENT
BEGIN:VEVENT
DTSTART;TZID=Europe/Berlin:20220615T080000
DTEND;TZID=Europe/Berlin:20220615T110000
DTSTAMP:20260421T153423
CREATED:20220422T090329Z
LAST-MODIFIED:20220422T090329Z
UID:10000082-1655280000-1655290800@www.mittelschule-aschbach.at
SUMMARY:ECDL- Prüfungen
DESCRIPTION:
URL:https://www.mittelschule-aschbach.at/termin/ecdl-pruefungen/
LOCATION:NMS Aschbach
END:VEVENT
BEGIN:VEVENT
DTSTART;VALUE=DATE:20220616
DTEND;VALUE=DATE:20220617
DTSTAMP:20260421T153423
CREATED:20220422T090358Z
LAST-MODIFIED:20220422T090358Z
UID:10000083-1655337600-1655423999@www.mittelschule-aschbach.at
SUMMARY:Fronleichnam
DESCRIPTION:
URL:https://www.mittelschule-aschbach.at/termin/fronleichnam/
LOCATION:NMS Aschbach
END:VEVENT
BEGIN:VEVENT
DTSTART;VALUE=DATE:20220617
DTEND;VALUE=DATE:20220618
DTSTAMP:20260421T153423
CREATED:20220422T090425Z
LAST-MODIFIED:20230119T093629Z
UID:10000084-1655424000-1655510399@www.mittelschule-aschbach.at
SUMMARY:schulautonom frei
DESCRIPTION:
URL:https://www.mittelschule-aschbach.at/termin/schulautonom-frei-3/
LOCATION:NMS Aschbach
CATEGORIES:Allgemein
END:VEVENT
BEGIN:VEVENT
DTSTART;VALUE=DATE:20220628
DTEND;VALUE=DATE:20220629
DTSTAMP:20260421T153423
CREATED:20220422T090753Z
LAST-MODIFIED:20220422T090753Z
UID:10000086-1656374400-1656460799@www.mittelschule-aschbach.at
SUMMARY:Wandertag/ Klassentag
DESCRIPTION:
URL:https://www.mittelschule-aschbach.at/termin/wandertag-klassentag/
LOCATION:NMS Aschbach
END:VEVENT
BEGIN:VEVENT
DTSTART;VALUE=DATE:20220701
DTEND;VALUE=DATE:20220702
DTSTAMP:20260421T153423
CREATED:20220422T090830Z
LAST-MODIFIED:20220422T090830Z
UID:10000087-1656633600-1656719999@www.mittelschule-aschbach.at
SUMMARY:Schulschluss: Zeugnis
DESCRIPTION:
URL:https://www.mittelschule-aschbach.at/termin/schulschluss-zeugnis/
LOCATION:NMS Aschbach
END:VEVENT
BEGIN:VEVENT
DTSTART;VALUE=DATE:20220905
DTEND;VALUE=DATE:20220906
DTSTAMP:20260421T153423
CREATED:20230121T122630Z
LAST-MODIFIED:20230121T122630Z
UID:10000090-1662336000-1662422399@www.mittelschule-aschbach.at
SUMMARY:Schulbeginn
DESCRIPTION:
URL:https://www.mittelschule-aschbach.at/termin/schulbeginn/
LOCATION:NMS Aschbach
CATEGORIES:Allgemein
END:VEVENT
BEGIN:VEVENT
DTSTART;VALUE=DATE:20230918
DTEND;VALUE=DATE:20230923
DTSTAMP:20260421T153423
CREATED:20230919T150821Z
LAST-MODIFIED:20230919T150859Z
UID:10000094-1694995200-1695427199@www.mittelschule-aschbach.at
SUMMARY:E-Week 3. Klasse
DESCRIPTION:
URL:https://www.mittelschule-aschbach.at/termin/e-week-3-klasse/
LOCATION:NMS Aschbach
END:VEVENT
BEGIN:VEVENT
DTSTART;VALUE=DATE:20230920
DTEND;VALUE=DATE:20230921
DTSTAMP:20260421T153423
CREATED:20230919T150721Z
LAST-MODIFIED:20230919T150721Z
UID:10000093-1695168000-1695254399@www.mittelschule-aschbach.at
SUMMARY:Wandertag 1. Klasse/ 2. Klasse/ 4. Klasse
DESCRIPTION:
URL:https://www.mittelschule-aschbach.at/termin/wandertag-1-klasse-2-klasse-4-klasse/
LOCATION:NMS Aschbach
END:VEVENT
END:VCALENDAR